BEGIN:VCALENDAR
VERSION:2.0
PRODID:-//Sea Turtle Patrol HHI - ECPv6.8.1//NONSGML v1.0//EN
CALSCALE:GREGORIAN
METHOD:PUBLISH
X-WR-CALNAME:Sea Turtle Patrol HHI
X-ORIGINAL-URL:https://seaturtlepatrolhhi.org
X-WR-CALDESC:Events for Sea Turtle Patrol HHI
REFRESH-INTERVAL;VALUE=DURATION:PT1H
X-Robots-Tag:noindex
X-PUBLISHED-TTL:PT1H
BEGIN:VTIMEZONE
TZID:America/New_York
BEGIN:DAYLIGHT
TZOFFSETFROM:-0500
TZOFFSETTO:-0400
TZNAME:EDT
DTSTART:20260308T070000
END:DAYLIGHT
BEGIN:STANDARD
TZOFFSETFROM:-0400
TZOFFSETTO:-0500
TZNAME:EST
DTSTART:20261101T060000
END:STANDARD
END:VTIMEZONE
BEGIN:VEVENT
DTSTART;VALUE=DATE:20260721
DTEND;VALUE=DATE:20260801
DTSTAMP:20260421T085804
CREATED:20260402T003307Z
LAST-MODIFIED:20260402T004424Z
UID:10000752-1784592000-1785542399@seaturtlepatrolhhi.org
SUMMARY:Halfway Home Art Exhibit & Auction with the Art League of Hilton Head
DESCRIPTION:Art League of Hilton Head is partnering again with Sea Turtle Patrol HHI to host a special exhibit featuring sea turtle artwork. The exhibit is called “Halfway Home\,” as we will be in the middle of sea turtle season. The exhibit will be held July 21-31 (weekdays only)\, with a closing reception on July 31\, 5-7 pm\, at Art League Academy located at 106 Cordillo Parkway. \nMore details coming soon. \n 
URL:https://seaturtlepatrolhhi.org/event/halfway-home-2026/
LOCATION:Art League of Hilton Head Academy\, 106 Cordillo Parkway\, Hilton Head Island\, SC\, 29928\, United States
CATEGORIES:Community Events
ATTACH;FMTTYPE=image/png:https://seaturtlepatrolhhi.org/wp-content/uploads/2026/04/Art-League-Halfway-Home.png
ORGANIZER;CN="Sea Turtle Patrol Hilton Head Island":MAILTO:hello@seaturtlepatrolhhi.org
END:VEVENT
END:VCALENDAR